BEGIN:VCALENDAR
VERSION:2.0
PRODID:-//Bellarine First Aid - ECPv4.2.4//NONSGML v1.0//EN
CALSCALE:GREGORIAN
METHOD:PUBLISH
X-WR-CALNAME:Bellarine First Aid
X-ORIGINAL-URL:https://bellarinefirstaid.com.au
X-WR-CALDESC:Events for Bellarine First Aid
BEGIN:VEVENT
DTSTART;TZID=UTC+0:20180924T090000
DTEND;TZID=UTC+0:20180924T160000
DTSTAMP:20190226T083625
CREATED:20180612T045357
LAST-MODIFIED:20180912T015036
UID:656-1537779600-1537804800@bellarinefirstaid.com.au
SUMMARY:HLTAID 003 (Provide First Aid)
DESCRIPTION:(003 FIRST AID)\n\nThis training session is limited to 12 people only. \n\n\n[av_one_full first]\n\n\n\n\n\nHLTAID 003\n\n\n\nPerson $130.00 AUD\n2x People $260.00 AUD\n3x People $390.00 AUD\n4x People $520.00 AUD\n5x People $650.00 AUD\n6x People $780.00 AUD\n7x People $910.00 AUD\n8x People $1\,040.00 AUD\n9x People $1\,170.00 AUD\n10x People $1\,300.00 AUD\n\n\n\nSeptember 24\, 2018 - 9:00 am - 4:00 pm\n\n\n\n\n\n\n\n
URL:https://bellarinefirstaid.com.au/training-calendar/hltaid-003-provide-first-aid-50/
LOCATION:192 Myers Street\, Geelong\, Victoria\, 3220\, Australia
END:VEVENT
END:VCALENDAR